BEGIN:VCALENDAR
VERSION:2.0
PRODID:-//UX in ATX - ECPv6.15.18//NONSGML v1.0//EN
CALSCALE:GREGORIAN
METHOD:PUBLISH
X-ORIGINAL-URL:https://uxinatx.com
X-WR-CALDESC:Events for UX in ATX
REFRESH-INTERVAL;VALUE=DURATION:PT1H
X-Robots-Tag:noindex
X-PUBLISHED-TTL:PT1H
BEGIN:VTIMEZONE
TZID:America/Chicago
BEGIN:DAYLIGHT
TZOFFSETFROM:-0600
TZOFFSETTO:-0500
TZNAME:CDT
DTSTART:20220313T080000
END:DAYLIGHT
BEGIN:STANDARD
TZOFFSETFROM:-0500
TZOFFSETTO:-0600
TZNAME:CST
DTSTART:20221106T070000
END:STANDARD
BEGIN:DAYLIGHT
TZOFFSETFROM:-0600
TZOFFSETTO:-0500
TZNAME:CDT
DTSTART:20230312T080000
END:DAYLIGHT
BEGIN:STANDARD
TZOFFSETFROM:-0500
TZOFFSETTO:-0600
TZNAME:CST
DTSTART:20231105T070000
END:STANDARD
BEGIN:DAYLIGHT
TZOFFSETFROM:-0600
TZOFFSETTO:-0500
TZNAME:CDT
DTSTART:20240310T080000
END:DAYLIGHT
BEGIN:STANDARD
TZOFFSETFROM:-0500
TZOFFSETTO:-0600
TZNAME:CST
DTSTART:20241103T070000
END:STANDARD
END:VTIMEZONE
BEGIN:VEVENT
DTSTART;TZID=America/Chicago:20230203T170000
DTEND;TZID=America/Chicago:20230203T180000
DTSTAMP:20260421T123705
CREATED:20240219T135704Z
LAST-MODIFIED:20240219T135706Z
UID:1077-1675443600-1675447200@uxinatx.com
SUMMARY:UX in ATX Armadillo Den Happy Hour
DESCRIPTION:Attention UX in ATX resident Austinites! Join us for an in-person happy hour at Armadillo Den on Friday\, February 3rd from 5:00-7:00pm. \n\n\n\nGrab a frozen drink from the bar\, munch on a snack from one of the food trucks\, and come socialize with other amazing Austin-based UX peeps so we can meet each other IRL and not behind the camera! \n\n\n\nPlease RSVP to this Meetup event so we know how many people to expect. We’ll have a sign that says “UX in ATX” at one of the large outdoor tables so you can find us. Parking can be tricky (lot available\, but fills up quickly); rideshares encouraged (presenting rideshare receipt gets you 10% off your tab)! \n\n\n\nLooking forward to seeing you there!
URL:https://uxinatx.com/event/ux-in-atx-armadillo-den-happy-hour/
CATEGORIES:In-Person
END:VEVENT
END:VCALENDAR