BEGIN:VCALENDAR
VERSION:2.0
PRODID:-//UX in ATX - ECPv6.15.18//NONSGML v1.0//EN
CALSCALE:GREGORIAN
METHOD:PUBLISH
X-ORIGINAL-URL:https://uxinatx.com
X-WR-CALDESC:Events for UX in ATX
REFRESH-INTERVAL;VALUE=DURATION:PT1H
X-Robots-Tag:noindex
X-PUBLISHED-TTL:PT1H
BEGIN:VTIMEZONE
TZID:America/Chicago
BEGIN:DAYLIGHT
TZOFFSETFROM:-0600
TZOFFSETTO:-0500
TZNAME:CDT
DTSTART:20190310T080000
END:DAYLIGHT
BEGIN:STANDARD
TZOFFSETFROM:-0500
TZOFFSETTO:-0600
TZNAME:CST
DTSTART:20191103T070000
END:STANDARD
BEGIN:DAYLIGHT
TZOFFSETFROM:-0600
TZOFFSETTO:-0500
TZNAME:CDT
DTSTART:20200308T080000
END:DAYLIGHT
BEGIN:STANDARD
TZOFFSETFROM:-0500
TZOFFSETTO:-0600
TZNAME:CST
DTSTART:20201101T070000
END:STANDARD
BEGIN:DAYLIGHT
TZOFFSETFROM:-0600
TZOFFSETTO:-0500
TZNAME:CDT
DTSTART:20210314T080000
END:DAYLIGHT
BEGIN:STANDARD
TZOFFSETFROM:-0500
TZOFFSETTO:-0600
TZNAME:CST
DTSTART:20211107T070000
END:STANDARD
END:VTIMEZONE
BEGIN:VEVENT
DTSTART;TZID=America/Chicago:20200511T184500
DTEND;TZID=America/Chicago:20200511T194500
DTSTAMP:20260425T174250
CREATED:20240219T160336Z
LAST-MODIFIED:20240219T160338Z
UID:1180-1589222700-1589226300@uxinatx.com
SUMMARY:Remote UX Tools and How to Use Them
DESCRIPTION:This month we will be exploring and using remote tools in a remote environment! \n\n\n\nJoin us for this UX in ATX on Zoom where we’ll talk about the options for remote UX collaboration tools and break into groups where we use one or more to get some hands-on experience! \n\n\n\nMembers who RSVP will be emailed a Zoom link. \n\n\n\nAgenda:6:30 – 7:00pm Networking7:00 – 7:15 pm – Introductions & Announcements7:15 – 7:45 pm – Program7:45 – 8:25 pm Split group exercises8:25-8:30pm – Wrap up
URL:https://uxinatx.com/event/remote-ux-tools-and-how-to-use-them/
CATEGORIES:Virtual
END:VEVENT
END:VCALENDAR