BEGIN:VCALENDAR
VERSION:2.0
PRODID:-//UX in ATX - ECPv6.15.18//NONSGML v1.0//EN
CALSCALE:GREGORIAN
METHOD:PUBLISH
X-WR-CALNAME:UX in ATX
X-ORIGINAL-URL:https://uxinatx.com
X-WR-CALDESC:Events for UX in ATX
REFRESH-INTERVAL;VALUE=DURATION:PT1H
X-Robots-Tag:noindex
X-PUBLISHED-TTL:PT1H
BEGIN:VTIMEZONE
TZID:America/Chicago
BEGIN:DAYLIGHT
TZOFFSETFROM:-0600
TZOFFSETTO:-0500
TZNAME:CDT
DTSTART:20190310T080000
END:DAYLIGHT
BEGIN:STANDARD
TZOFFSETFROM:-0500
TZOFFSETTO:-0600
TZNAME:CST
DTSTART:20191103T070000
END:STANDARD
BEGIN:DAYLIGHT
TZOFFSETFROM:-0600
TZOFFSETTO:-0500
TZNAME:CDT
DTSTART:20200308T080000
END:DAYLIGHT
BEGIN:STANDARD
TZOFFSETFROM:-0500
TZOFFSETTO:-0600
TZNAME:CST
DTSTART:20201101T070000
END:STANDARD
BEGIN:DAYLIGHT
TZOFFSETFROM:-0600
TZOFFSETTO:-0500
TZNAME:CDT
DTSTART:20210314T080000
END:DAYLIGHT
BEGIN:STANDARD
TZOFFSETFROM:-0500
TZOFFSETTO:-0600
TZNAME:CST
DTSTART:20211107T070000
END:STANDARD
END:VTIMEZONE
BEGIN:VEVENT
DTSTART;TZID=America/Chicago:20200603T183000
DTEND;TZID=America/Chicago:20200603T193000
DTSTAMP:20260425T155620
CREATED:20240219T160240Z
LAST-MODIFIED:20240219T160241Z
UID:1178-1591209000-1591212600@uxinatx.com
SUMMARY:Portfolio Review: 6/3/20
DESCRIPTION:There has never been a better time to work on and improve your UX portfolio. Join us online. Be prepared to share your portfolio\, ask questions and/or provide constructive critique. \n\n\n\nWe all need to up our game!6:30pm – Intros and housekeeping6:45pm – Portfolio reviews7:15pm – Wrap up \n\n\n\nThis will be a Zoom event and is open to all skill levels and all locations\, so feel free to join us from wherever you are. \n\n\n\nTopic: Portfolio ReviewTime: Jun 3\, 2020 06:30 PM Central Time (US and Canada)
URL:https://uxinatx.com/event/portfolio-review-6-3-20/
CATEGORIES:Virtual
END:VEVENT
BEGIN:VEVENT
DTSTART;TZID=America/Chicago:20200616T183000
DTEND;TZID=America/Chicago:20200616T193000
DTSTAMP:20260425T155620
CREATED:20240219T160046Z
LAST-MODIFIED:20240219T160048Z
UID:1176-1592332200-1592335800@uxinatx.com
SUMMARY:Keeping your UX Career Future Forward
DESCRIPTION:Hello Fellow UXers! \n\n\n\nWe will be talking about the future of UX and how to ready your career for the ever-changing technologies up ahead. \n\n\n\nThis will be a Zoom event and is open to all skill levels and all locations\, so feel free to join us from wherever you are.
URL:https://uxinatx.com/event/keeping-your-ux-career-future-forward/
CATEGORIES:Virtual
END:VEVENT
END:VCALENDAR