BEGIN:VCALENDAR
VERSION:2.0
PRODID:-//UX in ATX - ECPv6.15.18//NONSGML v1.0//EN
CALSCALE:GREGORIAN
METHOD:PUBLISH
X-ORIGINAL-URL:https://uxinatx.com
X-WR-CALDESC:Events for UX in ATX
REFRESH-INTERVAL;VALUE=DURATION:PT1H
X-Robots-Tag:noindex
X-PUBLISHED-TTL:PT1H
BEGIN:VTIMEZONE
TZID:America/Chicago
BEGIN:DAYLIGHT
TZOFFSETFROM:-0600
TZOFFSETTO:-0500
TZNAME:CDT
DTSTART:20200308T080000
END:DAYLIGHT
BEGIN:STANDARD
TZOFFSETFROM:-0500
TZOFFSETTO:-0600
TZNAME:CST
DTSTART:20201101T070000
END:STANDARD
BEGIN:DAYLIGHT
TZOFFSETFROM:-0600
TZOFFSETTO:-0500
TZNAME:CDT
DTSTART:20210314T080000
END:DAYLIGHT
BEGIN:STANDARD
TZOFFSETFROM:-0500
TZOFFSETTO:-0600
TZNAME:CST
DTSTART:20211107T070000
END:STANDARD
BEGIN:DAYLIGHT
TZOFFSETFROM:-0600
TZOFFSETTO:-0500
TZNAME:CDT
DTSTART:20220313T080000
END:DAYLIGHT
BEGIN:STANDARD
TZOFFSETFROM:-0500
TZOFFSETTO:-0600
TZNAME:CST
DTSTART:20221106T070000
END:STANDARD
END:VTIMEZONE
BEGIN:VEVENT
DTSTART;TZID=America/Chicago:20210406T183000
DTEND;TZID=America/Chicago:20210406T193000
DTSTAMP:20260422T232949
CREATED:20240219T152814Z
LAST-MODIFIED:20240219T152815Z
UID:1153-1617733800-1617737400@uxinatx.com
SUMMARY:Breaking Down Silos Between Product & UX
DESCRIPTION:Product Managers and UX team members have to have a highly collaborative working relationship. Join this interactive panel of Product and UX leaders to hear advice and insights into how to work effectively with each other and build great products together. \n\n\n\nThis in a joint meetup with The product League. Join their community here: https://www.meetup.com/The-Product-League \n\n\n\nSome topics we will cover:– What are patterns and anti-patterns for strong Product and UX collaboration?– How do you overcome the challenge of UX teams needing to work on a sprint schedule given their work does not often fit in a sprint?-What are the tradeoffs between a dedicated UX team member per team vs. an agency model of shared UX resources for all product teams?– What advice do you have for remote collaboration between UX and Product?– What advice do you have for junior UX designers just getting acquainted with the relationship between product management and UX? \n\n\n\nSpeakers:Tulsi Dharmarajan – Head of Product at WheelTulsi Patel – Product Manager at Solarwinds (Former UX manager)Chris Risdon – UX at HEBA 4th panelist TBA!
URL:https://uxinatx.com/event/breaking-down-silos-between-product-ux/
CATEGORIES:Virtual
END:VEVENT
END:VCALENDAR