BEGIN:VCALENDAR
VERSION:2.0
PRODID:-//UX in ATX - ECPv6.15.18//NONSGML v1.0//EN
CALSCALE:GREGORIAN
METHOD:PUBLISH
X-ORIGINAL-URL:https://uxinatx.com
X-WR-CALDESC:Events for UX in ATX
REFRESH-INTERVAL;VALUE=DURATION:PT1H
X-Robots-Tag:noindex
X-PUBLISHED-TTL:PT1H
BEGIN:VTIMEZONE
TZID:America/Chicago
BEGIN:DAYLIGHT
TZOFFSETFROM:-0600
TZOFFSETTO:-0500
TZNAME:CDT
DTSTART:20200308T080000
END:DAYLIGHT
BEGIN:STANDARD
TZOFFSETFROM:-0500
TZOFFSETTO:-0600
TZNAME:CST
DTSTART:20201101T070000
END:STANDARD
BEGIN:DAYLIGHT
TZOFFSETFROM:-0600
TZOFFSETTO:-0500
TZNAME:CDT
DTSTART:20210314T080000
END:DAYLIGHT
BEGIN:STANDARD
TZOFFSETFROM:-0500
TZOFFSETTO:-0600
TZNAME:CST
DTSTART:20211107T070000
END:STANDARD
BEGIN:DAYLIGHT
TZOFFSETFROM:-0600
TZOFFSETTO:-0500
TZNAME:CDT
DTSTART:20220313T080000
END:DAYLIGHT
BEGIN:STANDARD
TZOFFSETFROM:-0500
TZOFFSETTO:-0600
TZNAME:CST
DTSTART:20221106T070000
END:STANDARD
END:VTIMEZONE
BEGIN:VEVENT
DTSTART;TZID=America/Chicago:20210520T183000
DTEND;TZID=America/Chicago:20210520T193000
DTSTAMP:20260422T214720
CREATED:20240219T152640Z
LAST-MODIFIED:20240219T152702Z
UID:1150-1621535400-1621539000@uxinatx.com
SUMMARY:The Science of Decision Making
DESCRIPTION:Join behavioral economist Steven Clough on an exploration into the human mind as he dissects some common marketing “best practices” with a scientific lens and clinical research to see which ones stand up and which ones fall apart. \n\n\n\nLearn what affects attention\, how to break through the clutter\, how human memory works\, what makes memorable brands\, and how we actually make decisions. These studies in neurology\, psychology\, biology\, and sociology can add meaningful direction to your marketing and sales. It might just change everything you thought you knew about your customers.
URL:https://uxinatx.com/event/the-science-of-decision-making/
CATEGORIES:Virtual
END:VEVENT
END:VCALENDAR