BEGIN:VCALENDAR
VERSION:2.0
PRODID:-//UX in ATX - ECPv6.15.18//NONSGML v1.0//EN
CALSCALE:GREGORIAN
METHOD:PUBLISH
X-WR-CALNAME:UX in ATX
X-ORIGINAL-URL:https://uxinatx.com
X-WR-CALDESC:Events for UX in ATX
REFRESH-INTERVAL;VALUE=DURATION:PT1H
X-Robots-Tag:noindex
X-PUBLISHED-TTL:PT1H
BEGIN:VTIMEZONE
TZID:America/Chicago
BEGIN:DAYLIGHT
TZOFFSETFROM:-0600
TZOFFSETTO:-0500
TZNAME:CDT
DTSTART:20200308T080000
END:DAYLIGHT
BEGIN:STANDARD
TZOFFSETFROM:-0500
TZOFFSETTO:-0600
TZNAME:CST
DTSTART:20201101T070000
END:STANDARD
BEGIN:DAYLIGHT
TZOFFSETFROM:-0600
TZOFFSETTO:-0500
TZNAME:CDT
DTSTART:20210314T080000
END:DAYLIGHT
BEGIN:STANDARD
TZOFFSETFROM:-0500
TZOFFSETTO:-0600
TZNAME:CST
DTSTART:20211107T070000
END:STANDARD
BEGIN:DAYLIGHT
TZOFFSETFROM:-0600
TZOFFSETTO:-0500
TZNAME:CDT
DTSTART:20220313T080000
END:DAYLIGHT
BEGIN:STANDARD
TZOFFSETFROM:-0500
TZOFFSETTO:-0600
TZNAME:CST
DTSTART:20221106T070000
END:STANDARD
END:VTIMEZONE
BEGIN:VEVENT
DTSTART;TZID=America/Chicago:20210629T113000
DTEND;TZID=America/Chicago:20210629T123000
DTSTAMP:20260422T201807
CREATED:20240219T152226Z
LAST-MODIFIED:20240219T152227Z
UID:1146-1624966200-1624969800@uxinatx.com
SUMMARY:Tips & Tricks for Wireframing in Adobe XD
DESCRIPTION:Wireframing doesn’t have to be a tedious task. In this session\, join Designer Advocate\, Matt Rae\, to learn how you can leverage efficiency boosting tools like Guides\, Grids\, Components and Repeat Grid to accelerate your wireframing workflows and set yourself up for success when transitioning from wireframes to higher fidelity designs. We’ll build a wireframe from scratch\, and show you how plugins like Quick Mockup can provide a starting block. \n\n\n\nTakeaways\n\n\n\n\nSetup wireframe elements as components to easily replace them later on\n\n\n\nWork with layout tools like Stacks\, Padding and Responsive Resize to expedite your wireframe process\n\n\n\nExplore plugins like Quick Mockup to start wireframing even faster\n\n\n\nWork collaboratively\, and share wireframes throughout the process for feedback
URL:https://uxinatx.com/event/tips-tricks-for-wireframing-in-adobe-xd/
CATEGORIES:Virtual
END:VEVENT
END:VCALENDAR