BEGIN:VCALENDAR
VERSION:2.0
PRODID:-//UX in ATX - ECPv6.15.18//NONSGML v1.0//EN
CALSCALE:GREGORIAN
METHOD:PUBLISH
X-ORIGINAL-URL:https://uxinatx.com
X-WR-CALDESC:Events for UX in ATX
REFRESH-INTERVAL;VALUE=DURATION:PT1H
X-Robots-Tag:noindex
X-PUBLISHED-TTL:PT1H
BEGIN:VTIMEZONE
TZID:America/Chicago
BEGIN:DAYLIGHT
TZOFFSETFROM:-0600
TZOFFSETTO:-0500
TZNAME:CDT
DTSTART:20200308T080000
END:DAYLIGHT
BEGIN:STANDARD
TZOFFSETFROM:-0500
TZOFFSETTO:-0600
TZNAME:CST
DTSTART:20201101T070000
END:STANDARD
BEGIN:DAYLIGHT
TZOFFSETFROM:-0600
TZOFFSETTO:-0500
TZNAME:CDT
DTSTART:20210314T080000
END:DAYLIGHT
BEGIN:STANDARD
TZOFFSETFROM:-0500
TZOFFSETTO:-0600
TZNAME:CST
DTSTART:20211107T070000
END:STANDARD
BEGIN:DAYLIGHT
TZOFFSETFROM:-0600
TZOFFSETTO:-0500
TZNAME:CDT
DTSTART:20220313T080000
END:DAYLIGHT
BEGIN:STANDARD
TZOFFSETFROM:-0500
TZOFFSETTO:-0600
TZNAME:CST
DTSTART:20221106T070000
END:STANDARD
END:VTIMEZONE
BEGIN:VEVENT
DTSTART;TZID=America/Chicago:20210817T170000
DTEND;TZID=America/Chicago:20210817T180000
DTSTAMP:20260422T170935
CREATED:20240219T151514Z
LAST-MODIFIED:20240219T151516Z
UID:1140-1629219600-1629223200@uxinatx.com
SUMMARY:Better Design Workflows with Adobe XD and Photoshop
DESCRIPTION:Whether you’re loyal to Photoshop\, XD\, or a fan of both tools\, discover new ways to fire up your workflows and designs by using them together. Come find out how the two can accelerate design processes for your team and deliver more realistic\, interactive website designs for your clients. \n\n\n\nTakeaways\n\n\n\n\nTransform static Photoshop website designs into interactive\, shareable prototypes\n\n\n\nSeamlessly import Photoshop graphics into an XD website designs\n\n\n\nApply Photoshop’s advanced image editing tools right with an XD layout\n\n\n\nShare colors\, text styles\, graphics\, and components between Creative Cloud apps\n\n\n\n\nHere are some resources Matt shared! \n\n\n\nResources\n\n\n\n\nVSCode extension\n\n\n\nAdobeMax
URL:https://uxinatx.com/event/better-design-workflows-with-adobe-xd-and-photoshop/
CATEGORIES:Virtual
END:VEVENT
BEGIN:VEVENT
DTSTART;TZID=America/Chicago:20210825T183000
DTEND;TZID=America/Chicago:20210825T193000
DTSTAMP:20260422T170935
CREATED:20240219T151118Z
LAST-MODIFIED:20240219T151120Z
UID:1136-1629916200-1629919800@uxinatx.com
SUMMARY:UX Job Club Informational Event
DESCRIPTION:Job searching for UX designers — especially those at the junior level — is frustrating! Don’t go it alone! \n\n\n\nRather than struggle through endless applications\, learn how to network your way to a new job with the help of accountability and mentorship. \n\n\n\nJoin this information session to learn about participating in the UX Job Club\, networking your way to a new job\, and accelerating your path.
URL:https://uxinatx.com/event/ux-job-club-informational-event/
CATEGORIES:Virtual
END:VEVENT
BEGIN:VEVENT
DTSTART;TZID=America/Chicago:20210831T113000
DTEND;TZID=America/Chicago:20210831T123000
DTSTAMP:20260422T170935
CREATED:20240219T151741Z
LAST-MODIFIED:20240219T151742Z
UID:1142-1630409400-1630413000@uxinatx.com
SUMMARY:Prototyping with Sound: Audio & Speech Playback in Adobe XD
DESCRIPTION:Experience design doesn’t stop where the screen ends\, and your design tool shouldn’t either. In this session with Designer Advocate\, Matt Rae\, we’ll dive deep into how you can leverage voice and sound features in Adobe XD to prototype interactions and entire voice activated workflows end to end with voice triggers and speech and audio playback. Music players to voice assistants\, nothing is off the table with voice and audio features in Adobe XD. TakeawaysUse your voice to trigger actions in your prototypesDesign in audible feedback for users using speech and audio playbackCreate entirely hands-free interaction experiences in Adobe XD
URL:https://uxinatx.com/event/prototyping-with-sound-audio-speech-playback-in-adobe-xd/
CATEGORIES:Virtual
END:VEVENT
END:VCALENDAR