BEGIN:VCALENDAR
VERSION:2.0
PRODID:-//UX in ATX - ECPv6.15.18//NONSGML v1.0//EN
CALSCALE:GREGORIAN
METHOD:PUBLISH
X-ORIGINAL-URL:https://uxinatx.com
X-WR-CALDESC:Events for UX in ATX
REFRESH-INTERVAL;VALUE=DURATION:PT1H
X-Robots-Tag:noindex
X-PUBLISHED-TTL:PT1H
BEGIN:VTIMEZONE
TZID:America/Chicago
BEGIN:DAYLIGHT
TZOFFSETFROM:-0600
TZOFFSETTO:-0500
TZNAME:CDT
DTSTART:20210314T080000
END:DAYLIGHT
BEGIN:STANDARD
TZOFFSETFROM:-0500
TZOFFSETTO:-0600
TZNAME:CST
DTSTART:20211107T070000
END:STANDARD
BEGIN:DAYLIGHT
TZOFFSETFROM:-0600
TZOFFSETTO:-0500
TZNAME:CDT
DTSTART:20220313T080000
END:DAYLIGHT
BEGIN:STANDARD
TZOFFSETFROM:-0500
TZOFFSETTO:-0600
TZNAME:CST
DTSTART:20221106T070000
END:STANDARD
BEGIN:DAYLIGHT
TZOFFSETFROM:-0600
TZOFFSETTO:-0500
TZNAME:CDT
DTSTART:20230312T080000
END:DAYLIGHT
BEGIN:STANDARD
TZOFFSETFROM:-0500
TZOFFSETTO:-0600
TZNAME:CST
DTSTART:20231105T070000
END:STANDARD
END:VTIMEZONE
BEGIN:VEVENT
DTSTART;TZID=America/Chicago:20220526T183000
DTEND;TZID=America/Chicago:20220526T193000
DTSTAMP:20260422T032219
CREATED:20240219T141211Z
LAST-MODIFIED:20240219T141212Z
UID:1097-1653589800-1653593400@uxinatx.com
SUMMARY:The Accessibility Design Career Path
DESCRIPTION:The need for designers who specialize in accessibility has grown in demand as companies realize that inclusive design is the right thing to do and that accessible digital products outperform competitors by 50 percent. \n\n\n\nThat’s because inclusive products benefit everyone not just the roughly one billion people considered disabled worldwide. \n\n\n\nIn this meetup\, we discussed what accessibility means\, how designers can include it in their practice\, and how to pursue this specialization as a career path. \n\n\n\nOur panelists included: \n\n\n\n\nMali Holmes\, Accessibility Designer at CVS Health\n\n\n\nKim Berg\, QA Analyst\, Human Experience Design for BankMobile\n\n\n\nKarim Merchant\, Accessibility Product Designer at Dell\n\n\n\nGrace Tay\, Senior Full-Stack Web Developer\, accessibility certified\, Ohio State University.\n\n\n\n\nResources mentioned: \n\n\n\n\nWCAG based guidelines for design\n\n\n\nChrome tool helps developers make websites more color blind friendly – The Verge\n\n\n\nhttps://www.w3.org/WAI/\n\n\n\nMicrosoft Accessibility Insights: Accessibility Insights\n\n\n\nShould I Use An Accessibility Overlay?\n\n\n\nKill Your Personas. How persona spectrums champion real… | by Margaret P | Microsoft Design | Medium\n\n\n\nhttps://teachaccess.github.io/accessibility-skills-hiring-toolkit/roles/ux-interaction-designer\n\n\n\nAbout the Toolkit | Teach Access Accessibility Skills Hiring Toolkit\n\n\n\nIntroduction – Accessibility – Human Interface Guidelines – Apple Developer
URL:https://uxinatx.com/event/the-accessibility-design-career-path/
CATEGORIES:Virtual
ATTACH;FMTTYPE=image/png:https://uxinatx.com/wp-content/uploads/2024/02/052622-UX-in-ATX-Meetup-Banner.png
END:VEVENT
END:VCALENDAR