BEGIN:VCALENDAR
VERSION:2.0
PRODID:-//UX in ATX - ECPv6.15.18//NONSGML v1.0//EN
CALSCALE:GREGORIAN
METHOD:PUBLISH
X-WR-CALNAME:UX in ATX
X-ORIGINAL-URL:https://uxinatx.com
X-WR-CALDESC:Events for UX in ATX
REFRESH-INTERVAL;VALUE=DURATION:PT1H
X-Robots-Tag:noindex
X-PUBLISHED-TTL:PT1H
BEGIN:VTIMEZONE
TZID:America/Chicago
BEGIN:DAYLIGHT
TZOFFSETFROM:-0600
TZOFFSETTO:-0500
TZNAME:CDT
DTSTART:20210314T080000
END:DAYLIGHT
BEGIN:STANDARD
TZOFFSETFROM:-0500
TZOFFSETTO:-0600
TZNAME:CST
DTSTART:20211107T070000
END:STANDARD
BEGIN:DAYLIGHT
TZOFFSETFROM:-0600
TZOFFSETTO:-0500
TZNAME:CDT
DTSTART:20220313T080000
END:DAYLIGHT
BEGIN:STANDARD
TZOFFSETFROM:-0500
TZOFFSETTO:-0600
TZNAME:CST
DTSTART:20221106T070000
END:STANDARD
BEGIN:DAYLIGHT
TZOFFSETFROM:-0600
TZOFFSETTO:-0500
TZNAME:CDT
DTSTART:20230312T080000
END:DAYLIGHT
BEGIN:STANDARD
TZOFFSETFROM:-0500
TZOFFSETTO:-0600
TZNAME:CST
DTSTART:20231105T070000
END:STANDARD
END:VTIMEZONE
BEGIN:VEVENT
DTSTART;TZID=America/Chicago:20220728T183000
DTEND;TZID=America/Chicago:20220728T193000
DTSTAMP:20260422T000150
CREATED:20240219T140721Z
LAST-MODIFIED:20240219T140723Z
UID:1093-1659033000-1659036600@uxinatx.com
SUMMARY:The Designer-Developer Relationship
DESCRIPTION:How UX designers can have better working relationship with engineers\n\n\n\nUX designers rarely work in isolation. They are part of a larger team\, making products for our end users. \n\n\n\nIn July 2022\, we looked at how designers can improve their working relationship with developers and engineers. \n\n\n\nWe invited a group of developers for a panel discussion to answer these questions and more:– Andrew Brummer\, Senior Software Developer for Standard Beagle– Felipe Solis\, Staff User Experience Designer for Home Depot– Kathryn Huggins\, Software Engineer Manager for Home Depot
URL:https://uxinatx.com/event/the-designer-developer-relationship/
CATEGORIES:Virtual
ATTACH;FMTTYPE=image/png:https://uxinatx.com/wp-content/uploads/2024/02/NewBanner.png
END:VEVENT
END:VCALENDAR