BEGIN:VCALENDAR
VERSION:2.0
PRODID:-//UX in ATX - ECPv6.15.18//NONSGML v1.0//EN
CALSCALE:GREGORIAN
METHOD:PUBLISH
X-ORIGINAL-URL:https://uxinatx.com
X-WR-CALDESC:Events for UX in ATX
REFRESH-INTERVAL;VALUE=DURATION:PT1H
X-Robots-Tag:noindex
X-PUBLISHED-TTL:PT1H
BEGIN:VTIMEZONE
TZID:America/Chicago
BEGIN:DAYLIGHT
TZOFFSETFROM:-0600
TZOFFSETTO:-0500
TZNAME:CDT
DTSTART:20210314T080000
END:DAYLIGHT
BEGIN:STANDARD
TZOFFSETFROM:-0500
TZOFFSETTO:-0600
TZNAME:CST
DTSTART:20211107T070000
END:STANDARD
BEGIN:DAYLIGHT
TZOFFSETFROM:-0600
TZOFFSETTO:-0500
TZNAME:CDT
DTSTART:20220313T080000
END:DAYLIGHT
BEGIN:STANDARD
TZOFFSETFROM:-0500
TZOFFSETTO:-0600
TZNAME:CST
DTSTART:20221106T070000
END:STANDARD
BEGIN:DAYLIGHT
TZOFFSETFROM:-0600
TZOFFSETTO:-0500
TZNAME:CDT
DTSTART:20230312T080000
END:DAYLIGHT
BEGIN:STANDARD
TZOFFSETFROM:-0500
TZOFFSETTO:-0600
TZNAME:CST
DTSTART:20231105T070000
END:STANDARD
END:VTIMEZONE
BEGIN:VEVENT
DTSTART;TZID=America/Chicago:20221208T183000
DTEND;TZID=America/Chicago:20221208T193000
DTSTAMP:20260421T153158
CREATED:20240219T140017Z
LAST-MODIFIED:20240219T140019Z
UID:1081-1670524200-1670527800@uxinatx.com
SUMMARY:Figma Workshop: How to use auto-layout
DESCRIPTION:Learning a new tool such as auto-layout can be confusing or challenging for many designers\, but Figma offers some extremely powerful and useful mechanics that can drastically improve your designs. In this session\, our Figma expert\, Nathan Flores\, will begin by walking through auto-layout and its ability to provide consistency\, flexibility\, and a guideline for future work. By the end of the workshop\, designers will be able to use\, implement\, and observe the benefits of auto-layout.Things we’ll cover: \n\n\n\n\nWhy auto-layout is valuable (design system\, consistency\, auto-resizing)\n\n\n\nLearning all things auto-layout\n\n\n\nHow to apply auto-layout to designs and use cases\n\n\n\nShowcase a finished design that implements talking points
URL:https://uxinatx.com/event/figma-workshop-how-to-use-auto-layout/
CATEGORIES:Virtual
ATTACH;FMTTYPE=image/png:https://uxinatx.com/wp-content/uploads/2024/02/figma-workshop-.png
END:VEVENT
END:VCALENDAR