BEGIN:VCALENDAR
VERSION:2.0
PRODID:-//UX in ATX - ECPv6.15.18//NONSGML v1.0//EN
CALSCALE:GREGORIAN
METHOD:PUBLISH
X-ORIGINAL-URL:https://uxinatx.com
X-WR-CALDESC:Events for UX in ATX
REFRESH-INTERVAL;VALUE=DURATION:PT1H
X-Robots-Tag:noindex
X-PUBLISHED-TTL:PT1H
BEGIN:VTIMEZONE
TZID:America/Chicago
BEGIN:DAYLIGHT
TZOFFSETFROM:-0600
TZOFFSETTO:-0500
TZNAME:CDT
DTSTART:20220313T080000
END:DAYLIGHT
BEGIN:STANDARD
TZOFFSETFROM:-0500
TZOFFSETTO:-0600
TZNAME:CST
DTSTART:20221106T070000
END:STANDARD
BEGIN:DAYLIGHT
TZOFFSETFROM:-0600
TZOFFSETTO:-0500
TZNAME:CDT
DTSTART:20230312T080000
END:DAYLIGHT
BEGIN:STANDARD
TZOFFSETFROM:-0500
TZOFFSETTO:-0600
TZNAME:CST
DTSTART:20231105T070000
END:STANDARD
BEGIN:DAYLIGHT
TZOFFSETFROM:-0600
TZOFFSETTO:-0500
TZNAME:CDT
DTSTART:20240310T080000
END:DAYLIGHT
BEGIN:STANDARD
TZOFFSETFROM:-0500
TZOFFSETTO:-0600
TZNAME:CST
DTSTART:20241103T070000
END:STANDARD
END:VTIMEZONE
BEGIN:VEVENT
DTSTART;TZID=America/Chicago:20230228T183000
DTEND;TZID=America/Chicago:20230228T193000
DTSTAMP:20260421T122253
CREATED:20240219T135326Z
LAST-MODIFIED:20240219T135327Z
UID:1065-1677609000-1677612600@uxinatx.com
SUMMARY:Making your Usability Studies Accessible
DESCRIPTION:You want to include participants with disabilities in your usability studies\, but where do you start? UX in ATX invited presenter Erica Braverman to speak on how to bring accessibility into all stages of planning and running a usability study\, and the skills you can use to develop accessible studies for your own research needs.
URL:https://uxinatx.com/event/making-your-usability-studies-accessible/
CATEGORIES:Virtual
ATTACH;FMTTYPE=image/png:https://uxinatx.com/wp-content/uploads/2024/02/New-Feb-Event.png
END:VEVENT
END:VCALENDAR