BEGIN:VCALENDAR
VERSION:2.0
PRODID:-//UX in ATX - ECPv6.15.18//NONSGML v1.0//EN
CALSCALE:GREGORIAN
METHOD:PUBLISH
X-WR-CALNAME:UX in ATX
X-ORIGINAL-URL:https://uxinatx.com
X-WR-CALDESC:Events for UX in ATX
REFRESH-INTERVAL;VALUE=DURATION:PT1H
X-Robots-Tag:noindex
X-PUBLISHED-TTL:PT1H
BEGIN:VTIMEZONE
TZID:America/Chicago
BEGIN:DAYLIGHT
TZOFFSETFROM:-0600
TZOFFSETTO:-0500
TZNAME:CDT
DTSTART:20210314T080000
END:DAYLIGHT
BEGIN:STANDARD
TZOFFSETFROM:-0500
TZOFFSETTO:-0600
TZNAME:CST
DTSTART:20211107T070000
END:STANDARD
BEGIN:DAYLIGHT
TZOFFSETFROM:-0600
TZOFFSETTO:-0500
TZNAME:CDT
DTSTART:20220313T080000
END:DAYLIGHT
BEGIN:STANDARD
TZOFFSETFROM:-0500
TZOFFSETTO:-0600
TZNAME:CST
DTSTART:20221106T070000
END:STANDARD
BEGIN:DAYLIGHT
TZOFFSETFROM:-0600
TZOFFSETTO:-0500
TZNAME:CDT
DTSTART:20230312T080000
END:DAYLIGHT
BEGIN:STANDARD
TZOFFSETFROM:-0500
TZOFFSETTO:-0600
TZNAME:CST
DTSTART:20231105T070000
END:STANDARD
END:VTIMEZONE
BEGIN:VEVENT
DTSTART;TZID=America/Chicago:20221117T180000
DTEND;TZID=America/Chicago:20221117T190000
DTSTAMP:20260421T151201
CREATED:20240219T140228Z
LAST-MODIFIED:20240219T140229Z
UID:1084-1668708000-1668711600@uxinatx.com
SUMMARY:Design Skills Framework: Skills to advance your career and build wholesome teams
DESCRIPTION:11/17  @ 6:00pm-7:30pm (rescheduled from 10/27) \n\n\n\nDeveloping both the depth and breadth of your skills is essential to becoming an effective collaborator and influential designer.Do you want to learn how identifying individual skill clusters could not only advance your career but also promote effective teams?Andreina Dyer will lead night two of this workshop with golden nuggets of information on how individuals\, managers\, and teams can use the T-shaped skill framework to facilitate collaboration\, optimize team performance\, and honor employees’ unique skill sets.
URL:https://uxinatx.com/event/design-skills-framework-skills-to-advance-your-career-and-build-wholesome-teams/
CATEGORIES:Virtual
ATTACH;FMTTYPE=image/png:https://uxinatx.com/wp-content/uploads/2024/02/DS-Framework-Banner-1-1.png
END:VEVENT
END:VCALENDAR