BEGIN:VCALENDAR
VERSION:2.0
PRODID:-//UX in ATX - ECPv6.15.18//NONSGML v1.0//EN
CALSCALE:GREGORIAN
METHOD:PUBLISH
X-ORIGINAL-URL:https://uxinatx.com
X-WR-CALDESC:Events for UX in ATX
REFRESH-INTERVAL;VALUE=DURATION:PT1H
X-Robots-Tag:noindex
X-PUBLISHED-TTL:PT1H
BEGIN:VTIMEZONE
TZID:America/Chicago
BEGIN:DAYLIGHT
TZOFFSETFROM:-0600
TZOFFSETTO:-0500
TZNAME:CDT
DTSTART:20220313T080000
END:DAYLIGHT
BEGIN:STANDARD
TZOFFSETFROM:-0500
TZOFFSETTO:-0600
TZNAME:CST
DTSTART:20221106T070000
END:STANDARD
BEGIN:DAYLIGHT
TZOFFSETFROM:-0600
TZOFFSETTO:-0500
TZNAME:CDT
DTSTART:20230312T080000
END:DAYLIGHT
BEGIN:STANDARD
TZOFFSETFROM:-0500
TZOFFSETTO:-0600
TZNAME:CST
DTSTART:20231105T070000
END:STANDARD
BEGIN:DAYLIGHT
TZOFFSETFROM:-0600
TZOFFSETTO:-0500
TZNAME:CDT
DTSTART:20240310T080000
END:DAYLIGHT
BEGIN:STANDARD
TZOFFSETFROM:-0500
TZOFFSETTO:-0600
TZNAME:CST
DTSTART:20241103T070000
END:STANDARD
END:VTIMEZONE
BEGIN:VEVENT
DTSTART;TZID=America/Chicago:20230314T160000
DTEND;TZID=America/Chicago:20230314T170000
DTSTAMP:20260421T091843
CREATED:20240219T134816Z
LAST-MODIFIED:20240219T134818Z
UID:1060-1678809600-1678813200@uxinatx.com
SUMMARY:UX Designers and Researchers Meet Up
DESCRIPTION:* This is an official SXSW event and requires a badge. \n\n\n\nThis meetup will allow user experience professionals from around the globe to network and meet with each other\, exchange ideas\, and plan future collaboration. Hosted by UX in ATX\, this meetup is intended to create a community of UX practitioners attending SXSW through in-person interaction and networking.
URL:https://uxinatx.com/event/ux-designers-and-researchers-meet-up/
CATEGORIES:In-Person
END:VEVENT
BEGIN:VEVENT
DTSTART;TZID=America/Chicago:20230330T183000
DTEND;TZID=America/Chicago:20230330T193000
DTSTAMP:20260421T091843
CREATED:20240219T134704Z
LAST-MODIFIED:20240219T134706Z
UID:1058-1680201000-1680204600@uxinatx.com
SUMMARY:Creative Burnout - Ignite Your Spark!
DESCRIPTION:Feeling stuck lately\, as if your gas tank of internal creative resources has landed on empty? \n\n\n\nThat’s creative burnout\, and it’s a signpost telling us that it’s time to grow. \n\n\n\nJoin UX in ATX and Coach Steph online as she teaches us how we can combat our burnout and turn it into an opportunity to unleash our potential. \n\n\n\nDate: 3/30/23Time: 6:30-7:30 pm CSTSpeaker: Steph Sansoucie
URL:https://uxinatx.com/event/creative-burnout-ignite-your-spark/
CATEGORIES:Virtual
END:VEVENT
END:VCALENDAR