BEGIN:VCALENDAR
VERSION:2.0
PRODID:-//UX in ATX - ECPv6.15.18//NONSGML v1.0//EN
CALSCALE:GREGORIAN
METHOD:PUBLISH
X-ORIGINAL-URL:https://uxinatx.com
X-WR-CALDESC:Events for UX in ATX
REFRESH-INTERVAL;VALUE=DURATION:PT1H
X-Robots-Tag:noindex
X-PUBLISHED-TTL:PT1H
BEGIN:VTIMEZONE
TZID:America/Chicago
BEGIN:DAYLIGHT
TZOFFSETFROM:-0600
TZOFFSETTO:-0500
TZNAME:CDT
DTSTART:20190310T080000
END:DAYLIGHT
BEGIN:STANDARD
TZOFFSETFROM:-0500
TZOFFSETTO:-0600
TZNAME:CST
DTSTART:20191103T070000
END:STANDARD
BEGIN:DAYLIGHT
TZOFFSETFROM:-0600
TZOFFSETTO:-0500
TZNAME:CDT
DTSTART:20200308T080000
END:DAYLIGHT
BEGIN:STANDARD
TZOFFSETFROM:-0500
TZOFFSETTO:-0600
TZNAME:CST
DTSTART:20201101T070000
END:STANDARD
BEGIN:DAYLIGHT
TZOFFSETFROM:-0600
TZOFFSETTO:-0500
TZNAME:CDT
DTSTART:20210314T080000
END:DAYLIGHT
BEGIN:STANDARD
TZOFFSETFROM:-0500
TZOFFSETTO:-0600
TZNAME:CST
DTSTART:20211107T070000
END:STANDARD
END:VTIMEZONE
BEGIN:VEVENT
DTSTART;TZID=America/Chicago:20200730T183000
DTEND;TZID=America/Chicago:20200730T193000
DTSTAMP:20260425T173743
CREATED:20240219T155852Z
LAST-MODIFIED:20240219T155854Z
UID:1174-1596133800-1596137400@uxinatx.com
SUMMARY:The UX Research Career Path
DESCRIPTION:We have three amazing panelists joining us for this exciting discussion on the User Experience Research career path. We are going to dive deep into this amazing field and how to prepare for it\, advance in it and succeed in it. \n\n\n\nPANELISTS:* Meg Kemp\, Alma MajorA digital expert with 10 years of experience in user research\, UX design\, human-centered design\, service design\, enterprise creative strategy\, ICT4D\, health tech\, and digital advocacy with training from Temple University and Johns Hopkins University. \n\n\n\n* Babz Jewell\, Verizon ConnectBabz Jewell is a sociologist by training and chicken-wrangler in practice. She’s currently working with Verizon Connect’s Product Discovery team in Dublin\, Ireland\, and serves as the organization’s advocate for qualitative research across commercial lines of business. \n\n\n\n* Archie MS\, The Design Futures Initiative & GEArchie is a UX Design Researcher at GE Transportation\, a Wabtec company\, and a co-organizer of the ATL Speculative Futures chapter. Her journey to UX Research is through her education in architecture\, industrial design\, and design management. She brings the perspective of being an international person traversing this field in the USA.
URL:https://uxinatx.com/event/the-ux-research-career-path/
LOCATION:TX
CATEGORIES:Virtual
END:VEVENT
END:VCALENDAR